BEGIN:VCALENDAR
VERSION:2.0
PRODID:-//K6AA - ECPv6.15.20//NONSGML v1.0//EN
CALSCALE:GREGORIAN
METHOD:PUBLISH
X-WR-CALNAME:K6AA
X-ORIGINAL-URL:https://k6aa.org
X-WR-CALDESC:Events for K6AA
REFRESH-INTERVAL;VALUE=DURATION:PT1H
X-Robots-Tag:noindex
X-PUBLISHED-TTL:PT1H
BEGIN:VTIMEZONE
TZID:America/Los_Angeles
BEGIN:DAYLIGHT
TZOFFSETFROM:-0800
TZOFFSETTO:-0700
TZNAME:PDT
DTSTART:20150308T100000
END:DAYLIGHT
BEGIN:STANDARD
TZOFFSETFROM:-0700
TZOFFSETTO:-0800
TZNAME:PST
DTSTART:20151101T090000
END:STANDARD
BEGIN:DAYLIGHT
TZOFFSETFROM:-0800
TZOFFSETTO:-0700
TZNAME:PDT
DTSTART:20160313T100000
END:DAYLIGHT
BEGIN:STANDARD
TZOFFSETFROM:-0700
TZOFFSETTO:-0800
TZNAME:PST
DTSTART:20161106T090000
END:STANDARD
BEGIN:DAYLIGHT
TZOFFSETFROM:-0800
TZOFFSETTO:-0700
TZNAME:PDT
DTSTART:20170312T100000
END:DAYLIGHT
BEGIN:STANDARD
TZOFFSETFROM:-0700
TZOFFSETTO:-0800
TZNAME:PST
DTSTART:20171105T090000
END:STANDARD
END:VTIMEZONE
BEGIN:VEVENT
DTSTART;TZID=America/Los_Angeles:20160618T120000
DTEND;TZID=America/Los_Angeles:20160618T140000
DTSTAMP:20260419T122856
CREATED:20160618T120951Z
LAST-MODIFIED:20160618T120951Z
UID:711-1466251200-1466258400@k6aa.org
SUMMARY:URAC Meeting - Field Day Prep
DESCRIPTION:
URL:https://k6aa.org/event/urac-meeting-field-day-prep/
END:VEVENT
BEGIN:VEVENT
DTSTART;TZID=America/Los_Angeles:20160616T130000
DTEND;TZID=America/Los_Angeles:20160616T140000
DTSTAMP:20260419T122856
CREATED:20160618T121923Z
LAST-MODIFIED:20160618T121923Z
UID:720-1466082000-1466085600@k6aa.org
SUMMARY:K6AA Round Table 145.510 MHz
DESCRIPTION:
URL:https://k6aa.org/event/k6aa-round-table-145-510-mhz-20/
END:VEVENT
BEGIN:VEVENT
DTSTART;TZID=America/Los_Angeles:20160609T130000
DTEND;TZID=America/Los_Angeles:20160609T140000
DTSTAMP:20260419T122856
CREATED:20160618T121907Z
LAST-MODIFIED:20160618T121907Z
UID:719-1465477200-1465480800@k6aa.org
SUMMARY:K6AA Round Table 145.510 MHz
DESCRIPTION:
URL:https://k6aa.org/event/k6aa-round-table-145-510-mhz-19/
END:VEVENT
BEGIN:VEVENT
DTSTART;TZID=America/Los_Angeles:20160604T010000
DTEND;TZID=America/Los_Angeles:20160604T023000
DTSTAMP:20260419T122856
CREATED:20160321T051445Z
LAST-MODIFIED:20160321T051445Z
UID:645-1465002000-1465007400@k6aa.org
SUMMARY:Club’s No-host Breakfast & BOD Meeting
DESCRIPTION:First Saturday of each month at the Think Cafe at 302 W. 5th Street\, San Pedro\, CA\nAll members\, their guests\, and ‘Hams at large’ are welcome to join us\nMonthly BOD meeting follows\, from 9:30 to approx 10:00
URL:https://k6aa.org/event/clubs-no-host-breakfast-bod-meeting/
LOCATION:Think Cafe\, 302 W 5th St\, San Pedro\, CA\, United States
END:VEVENT
BEGIN:VEVENT
DTSTART;TZID=America/Los_Angeles:20160602T130000
DTEND;TZID=America/Los_Angeles:20160602T140000
DTSTAMP:20260419T122856
CREATED:20160618T121849Z
LAST-MODIFIED:20160618T121849Z
UID:718-1464872400-1464876000@k6aa.org
SUMMARY:K6AA Round Table 145.510 MHz
DESCRIPTION:
URL:https://k6aa.org/event/k6aa-round-table-145-510-mhz-18/
END:VEVENT
BEGIN:VEVENT
DTSTART;TZID=America/Los_Angeles:20160526T130000
DTEND;TZID=America/Los_Angeles:20160526T140000
DTSTAMP:20260419T122856
CREATED:20160403T053847Z
LAST-MODIFIED:20160403T053847Z
UID:679-1464267600-1464271200@k6aa.org
SUMMARY:K6AA Round Table 145.510 MHz
DESCRIPTION:
URL:https://k6aa.org/event/k6aa-round-table-145-510-mhz-13/
END:VEVENT
BEGIN:VEVENT
DTSTART;TZID=America/Los_Angeles:20160519T130000
DTEND;TZID=America/Los_Angeles:20160519T140000
DTSTAMP:20260419T122856
CREATED:20160403T053827Z
LAST-MODIFIED:20160403T053827Z
UID:678-1463662800-1463666400@k6aa.org
SUMMARY:K6AA Round Table 145.510 MHz
DESCRIPTION:
URL:https://k6aa.org/event/k6aa-round-table-145-510-mhz-12/
END:VEVENT
BEGIN:VEVENT
DTSTART;TZID=America/Los_Angeles:20160512T130000
DTEND;TZID=America/Los_Angeles:20160512T140000
DTSTAMP:20260419T122856
CREATED:20160403T053809Z
LAST-MODIFIED:20160403T053809Z
UID:677-1463058000-1463061600@k6aa.org
SUMMARY:K6AA Round Table 145.510 MHz
DESCRIPTION:
URL:https://k6aa.org/event/k6aa-round-table-145-510-mhz-11/
END:VEVENT
BEGIN:VEVENT
DTSTART;TZID=America/Los_Angeles:20160507T010000
DTEND;TZID=America/Los_Angeles:20160507T030000
DTSTAMP:20260419T122856
CREATED:20160321T051301Z
LAST-MODIFIED:20160403T053209Z
UID:643-1462582800-1462590000@k6aa.org
SUMMARY:Club’s No-host Breakfast & BOD Meeting
DESCRIPTION:First Saturday of each month at the Think Cafe at 302 W. 5th Street\, San Pedro\, CA\nAll members\, their guests\, and ‘Hams at large’ are welcome to join us\nMonthly BOD meeting follows\, from 9:30 to approx 10:00
URL:https://k6aa.org/event/clubs-no-host-breakfast-bod-meeting-may-7-800-am-930-am/
LOCATION:Think Cafe\, 302 W 5th St\, San Pedro\, CA\, United States
END:VEVENT
BEGIN:VEVENT
DTSTART;TZID=America/Los_Angeles:20160505T130000
DTEND;TZID=America/Los_Angeles:20160505T140000
DTSTAMP:20260419T122856
CREATED:20160403T053751Z
LAST-MODIFIED:20160403T053751Z
UID:676-1462453200-1462456800@k6aa.org
SUMMARY:K6AA Round Table 145.510 MHz
DESCRIPTION:
URL:https://k6aa.org/event/k6aa-round-table-145-510-mhz-10/
END:VEVENT
BEGIN:VEVENT
DTSTART;TZID=America/Los_Angeles:20160428T130000
DTEND;TZID=America/Los_Angeles:20160428T140000
DTSTAMP:20260419T122856
CREATED:20160403T053710Z
LAST-MODIFIED:20160403T053710Z
UID:675-1461848400-1461852000@k6aa.org
SUMMARY:K6AA Round Table 145.510 MHz
DESCRIPTION:
URL:https://k6aa.org/event/k6aa-round-table-145-510-mhz-9/
END:VEVENT
BEGIN:VEVENT
DTSTART;TZID=America/Los_Angeles:20160421T130000
DTEND;TZID=America/Los_Angeles:20160421T140000
DTSTAMP:20260419T122856
CREATED:20160403T053651Z
LAST-MODIFIED:20160403T053651Z
UID:674-1461243600-1461247200@k6aa.org
SUMMARY:K6AA Round Table 145.510 MHz
DESCRIPTION:
URL:https://k6aa.org/event/k6aa-round-table-145-510-mhz-8/
END:VEVENT
BEGIN:VEVENT
DTSTART;TZID=America/Los_Angeles:20160416T170000
DTEND;TZID=America/Los_Angeles:20160417T083000
DTSTAMP:20260419T122856
CREATED:20160403T053000Z
LAST-MODIFIED:20160403T054958Z
UID:669-1460826000-1460881800@k6aa.org
SUMMARY:CROP Hunger Walk
DESCRIPTION:As in years past\, URAC will again provide communications for the CROP Hunger Walk. With parking limited\, the tentative plan is to meet at 12:00 noon at the Korean Bell\, then leave most cars parked there. For further information please contact this year’s Lead Volunteer\, Homer K6HKT (phone & email are in the current membership roster).\nwww.crophungerwalk.org/sanpedroca\n“Join us on Sunday\, April 17th for Peninsula Harbor’s annual CROP Hunger Walk\, which will begin with registration/children’s activities at 11:00 a.m.\, our opening ceremony at 12:30 p.m.\, and the walk at 1:00 p.m.! With its inception in 1969\, CROP Hunger Walks are viewed by many as the granddaddy of charity walks. The walk’s legacy is deeply entrenched even in our own community; Peninsula Harbor has hosted 36 CROP Hunger Walks since 1981\, raising nearly $1 million over the years!”
URL:https://k6aa.org/event/crop-hunger-walk/
END:VEVENT
BEGIN:VEVENT
DTSTART;TZID=America/Los_Angeles:20160415T120000
DTEND;TZID=America/Los_Angeles:20160415T140000
DTSTAMP:20260419T122856
CREATED:20160403T054324Z
LAST-MODIFIED:20160403T054608Z
UID:680-1460721600-1460728800@k6aa.org
SUMMARY:Meeting - Pilotless Vehicles by AG6E
DESCRIPTION:URAC’s own David Ziskin AG6E will discuss pilotless vehicles. \nWhat is it?  Is it a UAV?  a UAS?  an RPV?  an RPA? … or just a drone? \nAre they all the same thing? Come join us in April as URACs own David Ziskin AG6E explains this alphabet of pilotless vehicles. \nFind out the roles\, the regulatory limits\, and what it takes to (legally) fly one of your own.
URL:https://k6aa.org/event/meeting-pilotless-vehicles-by-ag6e/
END:VEVENT
BEGIN:VEVENT
DTSTART;TZID=America/Los_Angeles:20160414T130000
DTEND;TZID=America/Los_Angeles:20160414T140000
DTSTAMP:20260419T122856
CREATED:20160403T053631Z
LAST-MODIFIED:20160403T053631Z
UID:673-1460638800-1460642400@k6aa.org
SUMMARY:K6AA Round Table 145.510 MHz
DESCRIPTION:
URL:https://k6aa.org/event/k6aa-round-table-145-510-mhz-7/
END:VEVENT
BEGIN:VEVENT
DTSTART;TZID=America/Los_Angeles:20160402T010000
DTEND;TZID=America/Los_Angeles:20160402T023000
DTSTAMP:20260419T122856
CREATED:20160108T023510Z
LAST-MODIFIED:20160126T123420Z
UID:335-1459558800-1459564200@k6aa.org
SUMMARY:Club's No-host Breakfast & BOD Meeting
DESCRIPTION:First Saturday of each month at the Think Cafe at 302 W. 5th Street\, San Pedro\, CA\nAll members\, their guests\, and ‘Hams at large’ are welcome to join us\nMonthly BOD meeting follows\, from 9:30 to approx 10:00
URL:https://k6aa.org/event/clubs-no-host-breakfast-3/
LOCATION:Think Cafe\, 302 W 5th St\, San Pedro\, CA\, United States
END:VEVENT
BEGIN:VEVENT
DTSTART;TZID=America/Los_Angeles:20160318T190000
DTEND;TZID=America/Los_Angeles:20160318T210000
DTSTAMP:20260419T122856
CREATED:20160126T124459Z
LAST-MODIFIED:20160304T105959Z
UID:506-1458327600-1458334800@k6aa.org
SUMMARY:URAC Monthly Club Meeting
DESCRIPTION:March presentation: Arnie Shatz N6HC and David Greenhut N6HD present their story of the TX3X Chesterfield Island DXpedition.
URL:https://k6aa.org/event/urac-monthly-club-meeting/
LOCATION:LA Maritime Museum\, 600 Sampson Way\, San Pedro\, CA\, 90731\, United States
END:VEVENT
BEGIN:VEVENT
DTSTART;TZID=America/Los_Angeles:20160305T000000
DTEND;TZID=America/Los_Angeles:20160305T013000
DTSTAMP:20260419T122856
CREATED:20160108T023327Z
LAST-MODIFIED:20160126T123326Z
UID:333-1457136000-1457141400@k6aa.org
SUMMARY:Club's No-host Breakfast & BOD Meeting
DESCRIPTION:First Saturday of each month at the Think Cafe at 302 W. 5th Street\, San Pedro\, CA\nAll members\, their guests\, and ‘Hams at large’ are welcome to join us\nMonthly BOD meeting follows\, from 9:30 to approx 10:00
URL:https://k6aa.org/event/clubs-no-host-breakfast-2/
LOCATION:Think Cafe\, 302 W 5th St\, San Pedro\, CA\, United States
END:VEVENT
BEGIN:VEVENT
DTSTART;VALUE=DATE:20160218
DTEND;VALUE=DATE:20160221
DTSTAMP:20260419T122856
CREATED:20160108T070437Z
LAST-MODIFIED:20160108T070501Z
UID:352-1455811200-1455983999@k6aa.org
SUMMARY:2016 SW Division Convention - Yuma Hamfest
DESCRIPTION:The 12th Annual Yuma Hamfest is the site of the 2016 ARRL Southwestern Division Convention . TheYuma Hamfest has two aspects. It is a hamfest for Amateur Radio people\, complete with commercial exhibits\, seminars\, license testing and tailgating. For members of the general public\, it is a trade show for emergency and disaster preparedness\, with informational presentations and displays of emergency supplies and equipment.
URL:https://k6aa.org/event/2016-sw-division-convention-yuma-hamfest/
LOCATION:Yuma Hamfest – Yuma Fair Grounds\, 2520 East 32nd Street\, Yuma\, AZ\, United States
END:VEVENT
BEGIN:VEVENT
DTSTART;TZID=America/Los_Angeles:20160115T110000
DTEND;TZID=America/Los_Angeles:20160115T130000
DTSTAMP:20260419T122856
CREATED:20160108T004352Z
LAST-MODIFIED:20160126T124757Z
UID:304-1452855600-1452862800@k6aa.org
SUMMARY:Monthly URAC Club Meeting
DESCRIPTION:Regular monthly meeting for discussing ham radio.
URL:https://k6aa.org/event/meeting/
LOCATION:LA Maritime Museum\, 600 Sampson Way\, San Pedro\, CA\, 90731\, United States
END:VEVENT
END:VCALENDAR