BEGIN:VCALENDAR
VERSION:2.0
PRODID:-//K6AA - ECPv5.11.0//NONSGML v1.0//EN
CALSCALE:GREGORIAN
METHOD:PUBLISH
X-WR-CALNAME:K6AA
X-ORIGINAL-URL:https://k6aa.org
X-WR-CALDESC:Events for K6AA
BEGIN:VTIMEZONE
TZID:America/Los_Angeles
BEGIN:DAYLIGHT
TZOFFSETFROM:-0800
TZOFFSETTO:-0700
TZNAME:PDT
DTSTART:20210314T100000
END:DAYLIGHT
BEGIN:STANDARD
TZOFFSETFROM:-0700
TZOFFSETTO:-0800
TZNAME:PST
DTSTART:20211107T090000
END:STANDARD
BEGIN:DAYLIGHT
TZOFFSETFROM:-0800
TZOFFSETTO:-0700
TZNAME:PDT
DTSTART:20220313T100000
END:DAYLIGHT
BEGIN:STANDARD
TZOFFSETFROM:-0700
TZOFFSETTO:-0800
TZNAME:PST
DTSTART:20221106T090000
END:STANDARD
END:VTIMEZONE
BEGIN:VEVENT
DTSTART;TZID=America/Los_Angeles:20211209T200000
DTEND;TZID=America/Los_Angeles:20211209T210000
DTSTAMP:20211206T041218
CREATED:20210418T034710Z
LAST-MODIFIED:20211120T033929Z
UID:1879-1639080000-1639083600@k6aa.org
SUMMARY:URAC Round Table W6AM Repeater 145.480Mhz
DESCRIPTION:W6AM Repeater is 145.480Mhz -600Khz Split / 100.0Hz Tone
URL:https://k6aa.org/event/urac-round-table-w6am-repeater-145-480mhz-48/
END:VEVENT
BEGIN:VEVENT
DTSTART;TZID=America/Los_Angeles:20211216T200000
DTEND;TZID=America/Los_Angeles:20211216T210000
DTSTAMP:20211206T041218
CREATED:20210418T034548Z
LAST-MODIFIED:20211120T034035Z
UID:1877-1639684800-1639688400@k6aa.org
SUMMARY:URAC Round Table W6AM Repeater 145.480Mhz
DESCRIPTION:W6AM Repeater is 145.480Mhz -600Khz Split / 100.0Hz Tone
URL:https://k6aa.org/event/urac-round-table-w6am-repeater-145-480mhz-47/
END:VEVENT
BEGIN:VEVENT
DTSTART;TZID=America/Los_Angeles:20211217T190000
DTEND;TZID=America/Los_Angeles:20211217T200000
DTSTAMP:20211206T041218
CREATED:20210418T035108Z
LAST-MODIFIED:20211120T033835Z
UID:1885-1639767600-1639771200@k6aa.org
SUMMARY:URAC General Membership Skype Meeting
DESCRIPTION:Meeting will be held via Skype – specific details will be sent by email. \nNo additional software is needed\, but if you’d like to download Skype before the meeting (it may work better in the app\, than on the web)\, you can download the software here: https://www.skype.com/en/get-skype/ \nIt is also recommended that if you use a VPN\, that you disable same to achieve better bandwidth to enhance the video and audio. \nFor tech support in advance drop an email to Tom\, K6IGY\, at tom@marinellonet.com
URL:https://k6aa.org/event/urac-general-membership-skype-meeting-9/
END:VEVENT
BEGIN:VEVENT
DTSTART;TZID=America/Los_Angeles:20211223T200000
DTEND;TZID=America/Los_Angeles:20211223T210000
DTSTAMP:20211206T041218
CREATED:20210418T034440Z
LAST-MODIFIED:20211120T034215Z
UID:1875-1640289600-1640293200@k6aa.org
SUMMARY:URAC Round Table W6AM Repeater 145.480Mhz
DESCRIPTION:W6AM Repeater is 145.480Mhz -600Khz Split / 100.0Hz Tone
URL:https://k6aa.org/event/urac-round-table-w6am-repeater-145-480mhz-46/
END:VEVENT
BEGIN:VEVENT
DTSTART;TZID=America/Los_Angeles:20211230T200000
DTEND;TZID=America/Los_Angeles:20211230T210000
DTSTAMP:20211206T041218
CREATED:20210418T034327Z
LAST-MODIFIED:20211120T034252Z
UID:1873-1640894400-1640898000@k6aa.org
SUMMARY:URAC Round Table W6AM Repeater 145.480Mhz
DESCRIPTION:W6AM Repeater is 145.480Mhz -600Khz Split / 100.0Hz Tone
URL:https://k6aa.org/event/urac-round-table-w6am-repeater-145-480mhz-45/
END:VEVENT
BEGIN:VEVENT
DTSTART;TZID=America/Los_Angeles:20220106T200000
DTEND;TZID=America/Los_Angeles:20220106T210000
DTSTAMP:20211206T041218
CREATED:20210418T034220Z
LAST-MODIFIED:20211120T034419Z
UID:1871-1641499200-1641502800@k6aa.org
SUMMARY:URAC Round Table W6AM Repeater 145.480Mhz
DESCRIPTION:W6AM Repeater is 145.480Mhz -600Khz Split / 100.0Hz Tone
URL:https://k6aa.org/event/urac-round-table-w6am-repeater-145-480mhz-44/
END:VEVENT
BEGIN:VEVENT
DTSTART;TZID=America/Los_Angeles:20220113T200000
DTEND;TZID=America/Los_Angeles:20220113T210000
DTSTAMP:20211206T041218
CREATED:20210418T033940Z
LAST-MODIFIED:20211120T034738Z
UID:1867-1642104000-1642107600@k6aa.org
SUMMARY:URAC Round Table W6AM Repeater 145.480Mhz
DESCRIPTION:W6AM Repeater is 145.480Mhz -600Khz Split / 100.0Hz Tone
URL:https://k6aa.org/event/urac-round-table-w6am-repeater-145-480mhz-42/
END:VEVENT
BEGIN:VEVENT
DTSTART;TZID=America/Los_Angeles:20220120T200000
DTEND;TZID=America/Los_Angeles:20220120T210000
DTSTAMP:20211206T041218
CREATED:20210418T034051Z
LAST-MODIFIED:20211120T034622Z
UID:1869-1642708800-1642712400@k6aa.org
SUMMARY:URAC Round Table W6AM Repeater 145.480Mhz
DESCRIPTION:W6AM Repeater is 145.480Mhz -600Khz Split / 100.0Hz Tone
URL:https://k6aa.org/event/urac-round-table-w6am-repeater-145-480mhz-43/
END:VEVENT
BEGIN:VEVENT
DTSTART;TZID=America/Los_Angeles:20220121T190000
DTEND;TZID=America/Los_Angeles:20220121T200000
DTSTAMP:20211206T041218
CREATED:20210418T034942Z
LAST-MODIFIED:20211120T034526Z
UID:1883-1642791600-1642795200@k6aa.org
SUMMARY:URAC General Membership Skype Meeting
DESCRIPTION:Meeting will be held via Skype – specific details will be sent by email. \nNo additional software is needed\, but if you’d like to download Skype before the meeting (it may work better in the app\, than on the web)\, you can download the software here: https://www.skype.com/en/get-skype/ \nIt is also recommended that if you use a VPN\, that you disable same to achieve better bandwidth to enhance the video and audio. \nFor tech support in advance drop an email to Tom\, K6IGY\, at tom@marinellonet.com
URL:https://k6aa.org/event/urac-general-membership-skype-meeting-8/
END:VEVENT
BEGIN:VEVENT
DTSTART;TZID=America/Los_Angeles:20220127T200000
DTEND;TZID=America/Los_Angeles:20220127T210000
DTSTAMP:20211206T041218
CREATED:20210216T063845Z
LAST-MODIFIED:20211120T035606Z
UID:1809-1643313600-1643317200@k6aa.org
SUMMARY:URAC Round Table W6AM Repeater 145.480Mhz
DESCRIPTION:W6AM Repeater is 145.480Mhz -600Khz Split / 100.0Hz Tone
URL:https://k6aa.org/event/urac-round-table-w6am-repeater-145-480mhz-41/
END:VEVENT
BEGIN:VEVENT
DTSTART;TZID=America/Los_Angeles:20220203T200000
DTEND;TZID=America/Los_Angeles:20220203T210000
DTSTAMP:20211206T041218
CREATED:20210216T063628Z
LAST-MODIFIED:20211120T035734Z
UID:1807-1643918400-1643922000@k6aa.org
SUMMARY:URAC Round Table W6AM Repeater 145.480Mhz
DESCRIPTION:W6AM Repeater is 145.480Mhz -600Khz Split / 100.0Hz Tone
URL:https://k6aa.org/event/urac-round-table-w6am-repeater-145-480mhz-40/
END:VEVENT
BEGIN:VEVENT
DTSTART;TZID=America/Los_Angeles:20220210T200000
DTEND;TZID=America/Los_Angeles:20220210T210000
DTSTAMP:20211206T041218
CREATED:20210216T063533Z
LAST-MODIFIED:20211120T040046Z
UID:1805-1644523200-1644526800@k6aa.org
SUMMARY:URAC Round Table W6AM Repeater 145.480Mhz
DESCRIPTION:W6AM Repeater is 145.480Mhz -600Khz Split / 100.0Hz Tone
URL:https://k6aa.org/event/urac-round-table-w6am-repeater-145-480mhz-39/
END:VEVENT
BEGIN:VEVENT
DTSTART;TZID=America/Los_Angeles:20220217T200000
DTEND;TZID=America/Los_Angeles:20220217T210000
DTSTAMP:20211206T041218
CREATED:20210216T063443Z
LAST-MODIFIED:20211120T040146Z
UID:1803-1645128000-1645131600@k6aa.org
SUMMARY:URAC Round Table W6AM Repeater 145.480Mhz
DESCRIPTION:W6AM Repeater is 145.480Mhz -600Khz Split / 100.0Hz Tone
URL:https://k6aa.org/event/urac-round-table-w6am-repeater-145-480mhz-38/
END:VEVENT
BEGIN:VEVENT
DTSTART;TZID=America/Los_Angeles:20220218T190000
DTEND;TZID=America/Los_Angeles:20220218T200000
DTSTAMP:20211206T041218
CREATED:20201225T042709Z
LAST-MODIFIED:20211120T035822Z
UID:1734-1645210800-1645214400@k6aa.org
SUMMARY:URAC General Membership Skype Meeting
DESCRIPTION:Meeting will be held via Skype – specific details will be sent by email. \nNo additional software is needed\, but if you’d like to download Skype before the meeting (it may work better in the app\, than on the web)\, you can download the software here: https://www.skype.com/en/get-skype/ \nIt is also recommended that if you use a VPN\, that you disable same to achieve better bandwidth to enhance the video and audio. \nFor tech support in advance drop an email to Tom\, K6IGY\, at tom@marinellonet.com
URL:https://k6aa.org/event/urac-general-membership-skype-meeting-7/
END:VEVENT
BEGIN:VEVENT
DTSTART;TZID=America/Los_Angeles:20220224T200000
DTEND;TZID=America/Los_Angeles:20220224T210000
DTSTAMP:20211206T041218
CREATED:20201225T044104Z
LAST-MODIFIED:20211120T040308Z
UID:1754-1645732800-1645736400@k6aa.org
SUMMARY:URAC Round Table W6AM Repeater 145.480Mhz
DESCRIPTION:W6AM Repeater is 145.480Mhz -600Khz Split / 100.0Hz Tone
URL:https://k6aa.org/event/urac-round-table-w6am-repeater-145-480mhz-37/
END:VEVENT
END:VCALENDAR