BEGIN:VCALENDAR
VERSION:2.0
PRODID:-//K6AA - ECPv6.15.20//NONSGML v1.0//EN
CALSCALE:GREGORIAN
METHOD:PUBLISH
X-WR-CALNAME:K6AA
X-ORIGINAL-URL:https://k6aa.org
X-WR-CALDESC:Events for K6AA
REFRESH-INTERVAL;VALUE=DURATION:PT1H
X-Robots-Tag:noindex
X-PUBLISHED-TTL:PT1H
BEGIN:VTIMEZONE
TZID:America/Los_Angeles
BEGIN:DAYLIGHT
TZOFFSETFROM:-0800
TZOFFSETTO:-0700
TZNAME:PDT
DTSTART:20200308T100000
END:DAYLIGHT
BEGIN:STANDARD
TZOFFSETFROM:-0700
TZOFFSETTO:-0800
TZNAME:PST
DTSTART:20201101T090000
END:STANDARD
BEGIN:DAYLIGHT
TZOFFSETFROM:-0800
TZOFFSETTO:-0700
TZNAME:PDT
DTSTART:20210314T100000
END:DAYLIGHT
BEGIN:STANDARD
TZOFFSETFROM:-0700
TZOFFSETTO:-0800
TZNAME:PST
DTSTART:20211107T090000
END:STANDARD
BEGIN:DAYLIGHT
TZOFFSETFROM:-0800
TZOFFSETTO:-0700
TZNAME:PDT
DTSTART:20220313T100000
END:DAYLIGHT
BEGIN:STANDARD
TZOFFSETFROM:-0700
TZOFFSETTO:-0800
TZNAME:PST
DTSTART:20221106T090000
END:STANDARD
END:VTIMEZONE
BEGIN:VEVENT
DTSTART;TZID=America/Los_Angeles:20211216T200000
DTEND;TZID=America/Los_Angeles:20211216T210000
DTSTAMP:20260422T095523
CREATED:20210418T034548Z
LAST-MODIFIED:20211120T034035Z
UID:1877-1639684800-1639688400@k6aa.org
SUMMARY:URAC Round Table W6AM Repeater 145.480Mhz
DESCRIPTION:W6AM Repeater is 145.480Mhz -600Khz Split / 100.0Hz Tone
URL:https://k6aa.org/event/urac-round-table-w6am-repeater-145-480mhz-47/
END:VEVENT
END:VCALENDAR